BEGIN:VCALENDAR
VERSION:2.0
PRODID:-//MIGS - ECPv6.15.20//NONSGML v1.0//EN
CALSCALE:GREGORIAN
METHOD:PUBLISH
X-WR-CALNAME:MIGS
X-ORIGINAL-URL:https://migs.biz/en
X-WR-CALDESC:Events for MIGS
REFRESH-INTERVAL;VALUE=DURATION:PT1H
X-Robots-Tag:noindex
X-PUBLISHED-TTL:PT1H
BEGIN:VTIMEZONE
TZID:UTC
BEGIN:STANDARD
TZOFFSETFROM:+0000
TZOFFSETTO:+0000
TZNAME:UTC
DTSTART:20230101T000000
END:STANDARD
END:VTIMEZONE
BEGIN:VEVENT
DTSTART;TZID=UTC:20241030T150000
DTEND;TZID=UTC:20241030T152500
DTSTAMP:20260420T225120
CREATED:20241007T182718Z
LAST-MODIFIED:20241009T200047Z
UID:2893-1730300400-1730301900@migs.biz
SUMMARY:The Games Industry’s Labor Outlook
DESCRIPTION:The labour market serves as a key economic indicator of an industry’s overall health\, providing vital information necessary for making informed decisions. Join Amir Satvat for a fireside chat on the Games Industry’s Labor Outlook\, where he will share his expert perspective on the current and future state of the industry’s workforce.
URL:https://migs.biz/en/event/the-games-industrys-labor-outlook/
END:VEVENT
END:VCALENDAR