BEGIN:VCALENDAR
VERSION:2.0
PRODID:-//MIGS - ECPv6.15.20//NONSGML v1.0//EN
CALSCALE:GREGORIAN
METHOD:PUBLISH
X-WR-CALNAME:MIGS
X-ORIGINAL-URL:https://migs.biz/fr
X-WR-CALDESC:Événements pour MIGS
REFRESH-INTERVAL;VALUE=DURATION:PT1H
X-Robots-Tag:noindex
X-PUBLISHED-TTL:PT1H
BEGIN:VTIMEZONE
TZID:UTC
BEGIN:STANDARD
TZOFFSETFROM:+0000
TZOFFSETTO:+0000
TZNAME:UTC
DTSTART:20230101T000000
END:STANDARD
END:VTIMEZONE
BEGIN:VEVENT
DTSTART;TZID=UTC:20241031T113000
DTEND;TZID=UTC:20241031T115500
DTSTAMP:20260420T212517
CREATED:20241007T182735Z
LAST-MODIFIED:20241008T171456Z
UID:2901-1730374200-1730375700@migs.biz
SUMMARY:Creating Effective Portfolios
DESCRIPTION:How do you build a portfolio that grabs potential clients’ attention?Our industry is full of beautifully rendered portfolios that showcase a studio’s capabilities\, but polished visuals alone don’t help developers imagine what it would be like to work together. Many developers today are looking for external partners who can learn and grow with them. Creative journeys are messy and chaotic – developers need partners who proactively come up with creative solutions and effective processes that mature the project during its exploratory stages\, as well as partners who comprehend what effective\, scalable\, and sustainable pipelines look like when the project is moving into production. These elements require clear explanations that go beyond beautiful renders. \nThis session will teach service providers to showcase your studio in a way that demonstrates your approach to journey of creation\, how your team helps clients overcome challenges\, and the tools and processes that you use to produce an effective and sustainable pipeline. For developers\, it provides insights into how to interpret portfolios and evaluate whether a potential partner matches what you’re looking for.
URL:https://migs.biz/fr/event/creating-effective-portfolios/
END:VEVENT
END:VCALENDAR