BEGIN:VCALENDAR
VERSION:2.0
PRODID:-//MIGS - ECPv6.15.20//NONSGML v1.0//EN
CALSCALE:GREGORIAN
METHOD:PUBLISH
X-WR-CALNAME:MIGS
X-ORIGINAL-URL:https://migs.biz/en
X-WR-CALDESC:Events for MIGS
REFRESH-INTERVAL;VALUE=DURATION:PT1H
X-Robots-Tag:noindex
X-PUBLISHED-TTL:PT1H
BEGIN:VTIMEZONE
TZID:UTC
BEGIN:STANDARD
TZOFFSETFROM:+0000
TZOFFSETTO:+0000
TZNAME:UTC
DTSTART:20230101T000000
END:STANDARD
END:VTIMEZONE
BEGIN:VEVENT
DTSTART;TZID=UTC:20241030T100000
DTEND;TZID=UTC:20241030T105000
DTSTAMP:20260420T182906
CREATED:20241007T182713Z
LAST-MODIFIED:20241017T133551Z
UID:2887-1730282400-1730285400@migs.biz
SUMMARY:Opening Panel: Understanding Market Dynamics in 2024 to Ensure the Success of Your Game
DESCRIPTION:As the video game industry evolves and global competition becomes fiercer than ever\, it is essential to understand what makes a game attractive to investors and players. \nPresented by Ubisoft\, this panel will explore the current landscape of trends in video games\, potential investments\, and market forces. \nModerator: Jason Della Rocca \nPanelists:\n– Clara Sia\, Business Development & Strategic Influencer\, Devolver Digital\n– Chloé Giusti\, Lead Regional Americas\, Xbox\n– Matthew Handrahan\, Senior Portfolio Manager\, Kepler Interactive
URL:https://migs.biz/en/event/keynote-ubisoft-investor/
END:VEVENT
END:VCALENDAR